BEGIN:VCALENDAR
VERSION:2.0
PRODID:-//Squarespace Inc/Squarespace 6//v6//EN
BEGIN:VEVENT
UID:5a2df349e2c483bdd901e378@squarespace.com
DTSTAMP:20171211T025436Z
DTSTART:20180107T210000Z
DTEND:20180108T030000Z
SUMMARY:Mercury Bay Summer Carnival
END:VEVENT
END:VCALENDAR
