BEGIN:VCALENDAR
VERSION:2.0
PRODID:-//Squarespace Inc/Squarespace 6//v6//EN
BEGIN:VEVENT
UID:5a2df37524a69493b83e1887@squarespace.com
DTSTAMP:20171211T025534Z
DTSTART:20180108T210000Z
DTEND:20180109T030000Z
SUMMARY:Gold Rush Market Day\, Thames
END:VEVENT
END:VCALENDAR
